BEGIN:VCALENDAR
VERSION:2.0
PRODID:-//Reflections Christian Fellowship - ECPv6.15.20//NONSGML v1.0//EN
CALSCALE:GREGORIAN
METHOD:PUBLISH
X-ORIGINAL-URL:https://reflectionschristian.com
X-WR-CALDESC:Events for Reflections Christian Fellowship
REFRESH-INTERVAL;VALUE=DURATION:PT1H
X-Robots-Tag:noindex
X-PUBLISHED-TTL:PT1H
BEGIN:VTIMEZONE
TZID:America/Los_Angeles
BEGIN:DAYLIGHT
TZOFFSETFROM:-0800
TZOFFSETTO:-0700
TZNAME:PDT
DTSTART:20210314T100000
END:DAYLIGHT
BEGIN:STANDARD
TZOFFSETFROM:-0700
TZOFFSETTO:-0800
TZNAME:PST
DTSTART:20211107T090000
END:STANDARD
BEGIN:DAYLIGHT
TZOFFSETFROM:-0800
TZOFFSETTO:-0700
TZNAME:PDT
DTSTART:20220313T100000
END:DAYLIGHT
BEGIN:STANDARD
TZOFFSETFROM:-0700
TZOFFSETTO:-0800
TZNAME:PST
DTSTART:20221106T090000
END:STANDARD
BEGIN:DAYLIGHT
TZOFFSETFROM:-0800
TZOFFSETTO:-0700
TZNAME:PDT
DTSTART:20230312T100000
END:DAYLIGHT
BEGIN:STANDARD
TZOFFSETFROM:-0700
TZOFFSETTO:-0800
TZNAME:PST
DTSTART:20231105T090000
END:STANDARD
END:VTIMEZONE
BEGIN:VEVENT
DTSTART;TZID=America/Los_Angeles:20220703T093000
DTEND;TZID=America/Los_Angeles:20220703T113000
DTSTAMP:20260420T001552
CREATED:20220606T181704Z
LAST-MODIFIED:20220606T182146Z
UID:2922-1656840600-1656847800@reflectionschristian.com
SUMMARY:Church Service 9:30am
DESCRIPTION:
URL:https://reflectionschristian.com/event/church-service-14/
LOCATION:CA
CATEGORIES:Church Service
END:VEVENT
BEGIN:VEVENT
DTSTART;VALUE=DATE:20220704
DTEND;VALUE=DATE:20220705
DTSTAMP:20260420T001552
CREATED:20220606T180717Z
LAST-MODIFIED:20220606T180918Z
UID:2918-1656892800-1656979199@reflectionschristian.com
SUMMARY:Happy 4th of July!
DESCRIPTION:
URL:https://reflectionschristian.com/event/happy-4th-of-july/
LOCATION:CA
CATEGORIES:Family Events
ATTACH;FMTTYPE=image/jpeg:https://reflectionschristian.com/wp-content/uploads/2022/06/4th-of-July-Web.jpg
END:VEVENT
BEGIN:VEVENT
DTSTART;TZID=America/Los_Angeles:20220706T180000
DTEND;TZID=America/Los_Angeles:20220706T193000
DTSTAMP:20260420T001552
CREATED:20220519T150738Z
LAST-MODIFIED:20220523T152814Z
UID:2834-1657130400-1657135800@reflectionschristian.com
SUMMARY:Men of Iron
DESCRIPTION:
URL:https://reflectionschristian.com/event/men-of-iron-17/
LOCATION:CA
CATEGORIES:Men Groups
ATTACH;FMTTYPE=image/jpeg:https://reflectionschristian.com/wp-content/uploads/2022/03/dISPLAY-CASE-MENS-BIBLE-STUDY-ECCLES..jpg
END:VEVENT
BEGIN:VEVENT
DTSTART;TZID=America/Los_Angeles:20220710T093000
DTEND;TZID=America/Los_Angeles:20220710T113000
DTSTAMP:20260420T001552
CREATED:20220606T181801Z
LAST-MODIFIED:20220606T182235Z
UID:2924-1657445400-1657452600@reflectionschristian.com
SUMMARY:Church Service 9:30am
DESCRIPTION:
URL:https://reflectionschristian.com/event/church-service-15/
LOCATION:CA
CATEGORIES:Church Service
END:VEVENT
BEGIN:VEVENT
DTSTART;TZID=America/Los_Angeles:20220710T110000
DTEND;TZID=America/Los_Angeles:20220710T130000
DTSTAMP:20260420T001552
CREATED:20220606T181446Z
LAST-MODIFIED:20220627T151215Z
UID:2920-1657450800-1657458000@reflectionschristian.com
SUMMARY:Family Picnic!
DESCRIPTION:
URL:https://reflectionschristian.com/event/family-picnic/
LOCATION:CA
CATEGORIES:Family Events
ATTACH;FMTTYPE=image/jpeg:https://reflectionschristian.com/wp-content/uploads/2022/06/picnic-flyer-display-2022.jpg
END:VEVENT
BEGIN:VEVENT
DTSTART;TZID=America/Los_Angeles:20220712T180000
DTEND;TZID=America/Los_Angeles:20220712T190000
DTSTAMP:20260420T001552
CREATED:20220519T151037Z
LAST-MODIFIED:20220519T151037Z
UID:2840-1657648800-1657652400@reflectionschristian.com
SUMMARY:Bible Study
DESCRIPTION:
URL:https://reflectionschristian.com/event/bible-study-14/
LOCATION:CA
CATEGORIES:Bible Study
ATTACH;FMTTYPE=image/jpeg:https://reflectionschristian.com/wp-content/uploads/2022/01/display-case-Romans-flyer.jpg
END:VEVENT
BEGIN:VEVENT
DTSTART;TZID=America/Los_Angeles:20220717T093000
DTEND;TZID=America/Los_Angeles:20220717T110000
DTSTAMP:20260420T001552
CREATED:20220702T161948Z
LAST-MODIFIED:20220705T181615Z
UID:3150-1658050200-1658055600@reflectionschristian.com
SUMMARY:Teen Challenge!
DESCRIPTION:
URL:https://reflectionschristian.com/event/teen-challenge-2/
LOCATION:CA
CATEGORIES:Family Events
ATTACH;FMTTYPE=image/jpeg:https://reflectionschristian.com/wp-content/uploads/2022/07/Teen-Challenge-flyer-fireside-room-2022.jpg
END:VEVENT
BEGIN:VEVENT
DTSTART;TZID=America/Los_Angeles:20220717T093000
DTEND;TZID=America/Los_Angeles:20220717T113000
DTSTAMP:20260420T001552
CREATED:20220606T181850Z
LAST-MODIFIED:20220606T182331Z
UID:2926-1658050200-1658057400@reflectionschristian.com
SUMMARY:Church Service 9:30am
DESCRIPTION:
URL:https://reflectionschristian.com/event/church-service-16/
LOCATION:CA
CATEGORIES:Church Service
END:VEVENT
BEGIN:VEVENT
DTSTART;TZID=America/Los_Angeles:20220720T180000
DTEND;TZID=America/Los_Angeles:20220720T193000
DTSTAMP:20260420T001552
CREATED:20220519T150832Z
LAST-MODIFIED:20220523T152852Z
UID:2836-1658340000-1658345400@reflectionschristian.com
SUMMARY:Men of Iron
DESCRIPTION:
URL:https://reflectionschristian.com/event/men-of-iron-18/
LOCATION:CA
CATEGORIES:Men Groups
ATTACH;FMTTYPE=image/jpeg:https://reflectionschristian.com/wp-content/uploads/2022/03/dISPLAY-CASE-MENS-BIBLE-STUDY-ECCLES..jpg
END:VEVENT
BEGIN:VEVENT
DTSTART;TZID=America/Los_Angeles:20220724T093000
DTEND;TZID=America/Los_Angeles:20220724T113000
DTSTAMP:20260420T001552
CREATED:20220606T181937Z
LAST-MODIFIED:20220606T182426Z
UID:2928-1658655000-1658662200@reflectionschristian.com
SUMMARY:Church Service 9:30am
DESCRIPTION:
URL:https://reflectionschristian.com/event/church-service-17/
LOCATION:CA
CATEGORIES:Church Service
END:VEVENT
BEGIN:VEVENT
DTSTART;TZID=America/Los_Angeles:20220726T180000
DTEND;TZID=America/Los_Angeles:20220726T190000
DTSTAMP:20260420T001552
CREATED:20220519T151129Z
LAST-MODIFIED:20220523T153503Z
UID:2842-1658858400-1658862000@reflectionschristian.com
SUMMARY:Bible Study
DESCRIPTION:
URL:https://reflectionschristian.com/event/bible-study-15/
LOCATION:CA
CATEGORIES:Bible Study
ATTACH;FMTTYPE=image/jpeg:https://reflectionschristian.com/wp-content/uploads/2022/01/display-case-Romans-flyer.jpg
END:VEVENT
BEGIN:VEVENT
DTSTART;TZID=America/Los_Angeles:20220731T093000
DTEND;TZID=America/Los_Angeles:20220731T113000
DTSTAMP:20260420T001552
CREATED:20220606T182021Z
LAST-MODIFIED:20220606T182458Z
UID:2930-1659259800-1659267000@reflectionschristian.com
SUMMARY:Church Service 9:30am
DESCRIPTION:
URL:https://reflectionschristian.com/event/church-service-18/
LOCATION:CA
CATEGORIES:Church Service
END:VEVENT
END:VCALENDAR