BEGIN:VCALENDAR
VERSION:2.0
PRODID:-//Reflections Christian Fellowship - ECPv6.15.20//NONSGML v1.0//EN
CALSCALE:GREGORIAN
METHOD:PUBLISH
X-WR-CALNAME:Reflections Christian Fellowship
X-ORIGINAL-URL:https://reflectionschristian.com
X-WR-CALDESC:Events for Reflections Christian Fellowship
REFRESH-INTERVAL;VALUE=DURATION:PT1H
X-Robots-Tag:noindex
X-PUBLISHED-TTL:PT1H
BEGIN:VTIMEZONE
TZID:America/Los_Angeles
BEGIN:DAYLIGHT
TZOFFSETFROM:-0800
TZOFFSETTO:-0700
TZNAME:PDT
DTSTART:20200308T100000
END:DAYLIGHT
BEGIN:STANDARD
TZOFFSETFROM:-0700
TZOFFSETTO:-0800
TZNAME:PST
DTSTART:20201101T090000
END:STANDARD
BEGIN:DAYLIGHT
TZOFFSETFROM:-0800
TZOFFSETTO:-0700
TZNAME:PDT
DTSTART:20210314T100000
END:DAYLIGHT
BEGIN:STANDARD
TZOFFSETFROM:-0700
TZOFFSETTO:-0800
TZNAME:PST
DTSTART:20211107T090000
END:STANDARD
BEGIN:DAYLIGHT
TZOFFSETFROM:-0800
TZOFFSETTO:-0700
TZNAME:PDT
DTSTART:20220313T100000
END:DAYLIGHT
BEGIN:STANDARD
TZOFFSETFROM:-0700
TZOFFSETTO:-0800
TZNAME:PST
DTSTART:20221106T090000
END:STANDARD
BEGIN:DAYLIGHT
TZOFFSETFROM:-0800
TZOFFSETTO:-0700
TZNAME:PDT
DTSTART:20230312T100000
END:DAYLIGHT
BEGIN:STANDARD
TZOFFSETFROM:-0700
TZOFFSETTO:-0800
TZNAME:PST
DTSTART:20231105T090000
END:STANDARD
END:VTIMEZONE
BEGIN:VEVENT
DTSTART;TZID=America/Los_Angeles:20220628T180000
DTEND;TZID=America/Los_Angeles:20220628T190000
DTSTAMP:20260420T203637
CREATED:20220418T205326Z
LAST-MODIFIED:20220418T205326Z
UID:2653-1656439200-1656442800@reflectionschristian.com
SUMMARY:Bible Study
DESCRIPTION:
URL:https://reflectionschristian.com/event/bible-study-13/
CATEGORIES:Bible Study
ATTACH;FMTTYPE=image/jpeg:https://reflectionschristian.com/wp-content/uploads/2022/01/display-case-Romans-flyer.jpg
END:VEVENT
BEGIN:VEVENT
DTSTART;TZID=America/Los_Angeles:20220614T180000
DTEND;TZID=America/Los_Angeles:20220614T190000
DTSTAMP:20260420T203637
CREATED:20220418T205238Z
LAST-MODIFIED:20220418T205238Z
UID:2651-1655229600-1655233200@reflectionschristian.com
SUMMARY:Bible Study
DESCRIPTION:
URL:https://reflectionschristian.com/event/bible-study-12/
CATEGORIES:Bible Study
ATTACH;FMTTYPE=image/jpeg:https://reflectionschristian.com/wp-content/uploads/2022/01/display-case-Romans-flyer.jpg
END:VEVENT
BEGIN:VEVENT
DTSTART;TZID=America/Los_Angeles:20220531T180000
DTEND;TZID=America/Los_Angeles:20220531T190000
DTSTAMP:20260420T203637
CREATED:20220328T162030Z
LAST-MODIFIED:20220328T162030Z
UID:2575-1654020000-1654023600@reflectionschristian.com
SUMMARY:Bible Study
DESCRIPTION:
URL:https://reflectionschristian.com/event/bible-study-11/
CATEGORIES:Bible Study
ATTACH;FMTTYPE=image/jpeg:https://reflectionschristian.com/wp-content/uploads/2022/01/display-case-Romans-flyer.jpg
END:VEVENT
BEGIN:VEVENT
DTSTART;TZID=America/Los_Angeles:20220517T180000
DTEND;TZID=America/Los_Angeles:20220517T190000
DTSTAMP:20260420T203637
CREATED:20220328T161938Z
LAST-MODIFIED:20220328T161938Z
UID:2573-1652810400-1652814000@reflectionschristian.com
SUMMARY:Bible Study
DESCRIPTION:
URL:https://reflectionschristian.com/event/bible-study-10/
CATEGORIES:Bible Study
ATTACH;FMTTYPE=image/jpeg:https://reflectionschristian.com/wp-content/uploads/2022/01/display-case-Romans-flyer.jpg
END:VEVENT
BEGIN:VEVENT
DTSTART;TZID=America/Los_Angeles:20220503T180000
DTEND;TZID=America/Los_Angeles:20220503T190000
DTSTAMP:20260420T203637
CREATED:20220328T161822Z
LAST-MODIFIED:20220328T161822Z
UID:2571-1651600800-1651604400@reflectionschristian.com
SUMMARY:Bible Study
DESCRIPTION:
URL:https://reflectionschristian.com/event/bible-study-9/
CATEGORIES:Bible Study
ATTACH;FMTTYPE=image/jpeg:https://reflectionschristian.com/wp-content/uploads/2022/01/display-case-Romans-flyer.jpg
END:VEVENT
BEGIN:VEVENT
DTSTART;TZID=America/Los_Angeles:20220419T180000
DTEND;TZID=America/Los_Angeles:20220419T190000
DTSTAMP:20260420T203637
CREATED:20220125T193404Z
LAST-MODIFIED:20220221T173303Z
UID:2348-1650391200-1650394800@reflectionschristian.com
SUMMARY:Bible Study
DESCRIPTION:
URL:https://reflectionschristian.com/event/bible-study-6/
CATEGORIES:Bible Study
ATTACH;FMTTYPE=image/jpeg:https://reflectionschristian.com/wp-content/uploads/2022/01/display-case-Romans-flyer.jpg
END:VEVENT
BEGIN:VEVENT
DTSTART;TZID=America/Los_Angeles:20220405T180000
DTEND;TZID=America/Los_Angeles:20220405T190000
DTSTAMP:20260420T203637
CREATED:20220221T175823Z
LAST-MODIFIED:20220221T175823Z
UID:2465-1649181600-1649185200@reflectionschristian.com
SUMMARY:Bible Study
DESCRIPTION:
URL:https://reflectionschristian.com/event/bible-study-8/
CATEGORIES:Bible Study
END:VEVENT
BEGIN:VEVENT
DTSTART;TZID=America/Los_Angeles:20220322T180000
DTEND;TZID=America/Los_Angeles:20220322T190000
DTSTAMP:20260420T203637
CREATED:20220221T174325Z
LAST-MODIFIED:20220221T174325Z
UID:2442-1647972000-1647975600@reflectionschristian.com
SUMMARY:Bible Study
DESCRIPTION:
URL:https://reflectionschristian.com/event/bible-study-7/
CATEGORIES:Bible Study
END:VEVENT
BEGIN:VEVENT
DTSTART;TZID=America/Los_Angeles:20220308T180000
DTEND;TZID=America/Los_Angeles:20220308T190000
DTSTAMP:20260420T203637
CREATED:20220125T193303Z
LAST-MODIFIED:20220125T195536Z
UID:2346-1646762400-1646766000@reflectionschristian.com
SUMMARY:Bible Study
DESCRIPTION:
URL:https://reflectionschristian.com/event/bible-study-5/
CATEGORIES:Bible Study
ATTACH;FMTTYPE=image/jpeg:https://reflectionschristian.com/wp-content/uploads/2022/01/display-case-Romans-flyer.jpg
END:VEVENT
BEGIN:VEVENT
DTSTART;TZID=America/Los_Angeles:20220222T180000
DTEND;TZID=America/Los_Angeles:20220222T190000
DTSTAMP:20260420T203637
CREATED:20220111T231302Z
LAST-MODIFIED:20220125T194839Z
UID:2152-1645552800-1645556400@reflectionschristian.com
SUMMARY:Bible Study 6-7pm
DESCRIPTION:
URL:https://reflectionschristian.com/event/bible-study-6-7pm-3/
LOCATION:Reflections Christian Fellowship\, 375 E. Ramona Expressway\, Perris\, CA\, 92571\, United States
CATEGORIES:Bible Study
ATTACH;FMTTYPE=image/jpeg:https://reflectionschristian.com/wp-content/uploads/2022/01/display-case-Romans-flyer.jpg
END:VEVENT
BEGIN:VEVENT
DTSTART;TZID=America/Los_Angeles:20220208T180000
DTEND;TZID=America/Los_Angeles:20220208T190000
DTSTAMP:20260420T203637
CREATED:20220111T231154Z
LAST-MODIFIED:20220125T195425Z
UID:2149-1644343200-1644346800@reflectionschristian.com
SUMMARY:Bible Study 6-7pm
DESCRIPTION:
URL:https://reflectionschristian.com/event/bible-study-6-7pm-2/
LOCATION:Reflections Christian Fellowship\, 375 E. Ramona Expressway\, Perris\, CA\, 92571\, United States
CATEGORIES:Bible Study
ATTACH;FMTTYPE=image/jpeg:https://reflectionschristian.com/wp-content/uploads/2022/01/display-case-Romans-flyer.jpg
END:VEVENT
BEGIN:VEVENT
DTSTART;TZID=America/Los_Angeles:20220125T180000
DTEND;TZID=America/Los_Angeles:20220125T190000
DTSTAMP:20260420T203637
CREATED:20220111T231047Z
LAST-MODIFIED:20220125T195353Z
UID:2147-1643133600-1643137200@reflectionschristian.com
SUMMARY:Bible Study 6-7pm
DESCRIPTION:
URL:https://reflectionschristian.com/event/bible-study-6-7pm/
LOCATION:Reflections Christian Fellowship\, 375 E. Ramona Expressway\, Perris\, CA\, 92571\, United States
CATEGORIES:Bible Study
ATTACH;FMTTYPE=image/jpeg:https://reflectionschristian.com/wp-content/uploads/2022/01/display-case-Romans-flyer.jpg
END:VEVENT
BEGIN:VEVENT
DTSTART;TZID=America/Los_Angeles:20211026T180000
DTEND;TZID=America/Los_Angeles:20211026T190000
DTSTAMP:20260420T203637
CREATED:20210902T224013Z
LAST-MODIFIED:20210902T225259Z
UID:1384-1635271200-1635274800@reflectionschristian.com
SUMMARY:Bible Study - Romans
DESCRIPTION:
URL:https://reflectionschristian.com/event/bible-study-4/
LOCATION:Camper Resorts Fireside Room\, 375 E. Ramona Expressway\, Perris\, CA\, 92571\, United States
CATEGORIES:Bible Study
ATTACH;FMTTYPE=image/jpeg:https://reflectionschristian.com/wp-content/uploads/photo-1599585809580-90fbced8b09b.jpg
END:VEVENT
BEGIN:VEVENT
DTSTART;TZID=America/Los_Angeles:20211012T180000
DTEND;TZID=America/Los_Angeles:20211012T190000
DTSTAMP:20260420T203637
CREATED:20210902T223956Z
LAST-MODIFIED:20210902T225250Z
UID:1382-1634061600-1634065200@reflectionschristian.com
SUMMARY:Bible Study - Romans
DESCRIPTION:
URL:https://reflectionschristian.com/event/bible-study-3/
LOCATION:Camper Resorts Fireside Room\, 375 E. Ramona Expressway\, Perris\, CA\, 92571\, United States
CATEGORIES:Bible Study
ATTACH;FMTTYPE=image/jpeg:https://reflectionschristian.com/wp-content/uploads/photo-1599585809580-90fbced8b09b.jpg
END:VEVENT
BEGIN:VEVENT
DTSTART;TZID=America/Los_Angeles:20210928T180000
DTEND;TZID=America/Los_Angeles:20210928T190000
DTSTAMP:20260420T203637
CREATED:20210902T223934Z
LAST-MODIFIED:20210902T225245Z
UID:1380-1632852000-1632855600@reflectionschristian.com
SUMMARY:Bible Study - Romans
DESCRIPTION:
URL:https://reflectionschristian.com/event/bible-study-2/
LOCATION:Camper Resorts Fireside Room\, 375 E. Ramona Expressway\, Perris\, CA\, 92571\, United States
CATEGORIES:Bible Study
ATTACH;FMTTYPE=image/jpeg:https://reflectionschristian.com/wp-content/uploads/photo-1599585809580-90fbced8b09b.jpg
END:VEVENT
BEGIN:VEVENT
DTSTART;TZID=America/Los_Angeles:20210914T180000
DTEND;TZID=America/Los_Angeles:20210914T190000
DTSTAMP:20260420T203637
CREATED:20210902T223747Z
LAST-MODIFIED:20210902T225239Z
UID:1378-1631642400-1631646000@reflectionschristian.com
SUMMARY:Bible Study - Romans
DESCRIPTION:
URL:https://reflectionschristian.com/event/bible-study/
LOCATION:Camper Resorts Fireside Room\, 375 E. Ramona Expressway\, Perris\, CA\, 92571\, United States
CATEGORIES:Bible Study
ATTACH;FMTTYPE=image/jpeg:https://reflectionschristian.com/wp-content/uploads/photo-1599585809580-90fbced8b09b.jpg
END:VEVENT
END:VCALENDAR