BEGIN:VCALENDAR
VERSION:2.0
PRODID:-//Reflections Christian Fellowship - ECPv6.15.20//NONSGML v1.0//EN
CALSCALE:GREGORIAN
METHOD:PUBLISH
X-WR-CALNAME:Reflections Christian Fellowship
X-ORIGINAL-URL:https://reflectionschristian.com
X-WR-CALDESC:Events for Reflections Christian Fellowship
REFRESH-INTERVAL;VALUE=DURATION:PT1H
X-Robots-Tag:noindex
X-PUBLISHED-TTL:PT1H
BEGIN:VTIMEZONE
TZID:America/Los_Angeles
BEGIN:DAYLIGHT
TZOFFSETFROM:-0800
TZOFFSETTO:-0700
TZNAME:PDT
DTSTART:20220313T100000
END:DAYLIGHT
BEGIN:STANDARD
TZOFFSETFROM:-0700
TZOFFSETTO:-0800
TZNAME:PST
DTSTART:20221106T090000
END:STANDARD
BEGIN:DAYLIGHT
TZOFFSETFROM:-0800
TZOFFSETTO:-0700
TZNAME:PDT
DTSTART:20230312T100000
END:DAYLIGHT
BEGIN:STANDARD
TZOFFSETFROM:-0700
TZOFFSETTO:-0800
TZNAME:PST
DTSTART:20231105T090000
END:STANDARD
BEGIN:DAYLIGHT
TZOFFSETFROM:-0800
TZOFFSETTO:-0700
TZNAME:PDT
DTSTART:20240310T100000
END:DAYLIGHT
BEGIN:STANDARD
TZOFFSETFROM:-0700
TZOFFSETTO:-0800
TZNAME:PST
DTSTART:20241103T090000
END:STANDARD
BEGIN:DAYLIGHT
TZOFFSETFROM:-0800
TZOFFSETTO:-0700
TZNAME:PDT
DTSTART:20250309T100000
END:DAYLIGHT
BEGIN:STANDARD
TZOFFSETFROM:-0700
TZOFFSETTO:-0800
TZNAME:PST
DTSTART:20251102T090000
END:STANDARD
END:VTIMEZONE
BEGIN:VEVENT
DTSTART;TZID=America/Los_Angeles:20240514T180000
DTEND;TZID=America/Los_Angeles:20240514T190000
DTSTAMP:20260419T080202
CREATED:20240319T212948Z
LAST-MODIFIED:20240319T212948Z
UID:37261-1715709600-1715713200@reflectionschristian.com
SUMMARY:bible study
DESCRIPTION:
URL:https://reflectionschristian.com/event/bible-study-61/
CATEGORIES:Bible Study
END:VEVENT
BEGIN:VEVENT
DTSTART;TZID=America/Los_Angeles:20240430T180000
DTEND;TZID=America/Los_Angeles:20240430T190000
DTSTAMP:20260419T080202
CREATED:20240109T215254Z
LAST-MODIFIED:20240209T165831Z
UID:36996-1714500000-1714503600@reflectionschristian.com
SUMMARY:bible study
DESCRIPTION:
URL:https://reflectionschristian.com/event/bible-study-60/
CATEGORIES:Bible Study
END:VEVENT
BEGIN:VEVENT
DTSTART;TZID=America/Los_Angeles:20240416T180000
DTEND;TZID=America/Los_Angeles:20240416T190000
DTSTAMP:20260419T080202
CREATED:20240109T214943Z
LAST-MODIFIED:20240209T165702Z
UID:36990-1713290400-1713294000@reflectionschristian.com
SUMMARY:bible study
DESCRIPTION:
URL:https://reflectionschristian.com/event/bible-study-59/
CATEGORIES:Bible Study
END:VEVENT
BEGIN:VEVENT
DTSTART;TZID=America/Los_Angeles:20240402T180000
DTEND;TZID=America/Los_Angeles:20240402T190000
DTSTAMP:20260419T080202
CREATED:20240109T214858Z
LAST-MODIFIED:20240209T165634Z
UID:36988-1712080800-1712084400@reflectionschristian.com
SUMMARY:bible study
DESCRIPTION:
URL:https://reflectionschristian.com/event/bible-study-58/
CATEGORIES:Bible Study
END:VEVENT
BEGIN:VEVENT
DTSTART;TZID=America/Los_Angeles:20240319T180000
DTEND;TZID=America/Los_Angeles:20240319T190000
DTSTAMP:20260419T080202
CREATED:20240109T024131Z
LAST-MODIFIED:20240209T165510Z
UID:36963-1710871200-1710874800@reflectionschristian.com
SUMMARY:bible study
DESCRIPTION:
URL:https://reflectionschristian.com/event/bible-study-57/
CATEGORIES:Bible Study
END:VEVENT
BEGIN:VEVENT
DTSTART;TZID=America/Los_Angeles:20240305T180000
DTEND;TZID=America/Los_Angeles:20240305T190000
DTSTAMP:20260419T080202
CREATED:20240109T024045Z
LAST-MODIFIED:20240209T165438Z
UID:36961-1709661600-1709665200@reflectionschristian.com
SUMMARY:bible study
DESCRIPTION:
URL:https://reflectionschristian.com/event/bible-study-56/
CATEGORIES:Bible Study
END:VEVENT
BEGIN:VEVENT
DTSTART;TZID=America/Los_Angeles:20240220T180000
DTEND;TZID=America/Los_Angeles:20240220T190000
DTSTAMP:20260419T080202
CREATED:20240102T163428Z
LAST-MODIFIED:20240209T165320Z
UID:36907-1708452000-1708455600@reflectionschristian.com
SUMMARY:bible study
DESCRIPTION:
URL:https://reflectionschristian.com/event/bible-study-55/
CATEGORIES:Bible Study
END:VEVENT
BEGIN:VEVENT
DTSTART;TZID=America/Los_Angeles:20240206T180000
DTEND;TZID=America/Los_Angeles:20240206T190000
DTSTAMP:20260419T080202
CREATED:20240102T163352Z
LAST-MODIFIED:20240102T163352Z
UID:36905-1707242400-1707246000@reflectionschristian.com
SUMMARY:bible study
DESCRIPTION:
URL:https://reflectionschristian.com/event/bible-study-54/
CATEGORIES:Bible Study
ATTACH;FMTTYPE=image/jpeg:https://reflectionschristian.com/wp-content/uploads/2023/12/Bible-Study-Micah.jpg
END:VEVENT
BEGIN:VEVENT
DTSTART;TZID=America/Los_Angeles:20240123T180000
DTEND;TZID=America/Los_Angeles:20240123T190000
DTSTAMP:20260419T080202
CREATED:20231230T202647Z
LAST-MODIFIED:20231230T202647Z
UID:36866-1706032800-1706036400@reflectionschristian.com
SUMMARY:bible study
DESCRIPTION:
URL:https://reflectionschristian.com/event/bible-study-53/
CATEGORIES:Bible Study
ATTACH;FMTTYPE=image/jpeg:https://reflectionschristian.com/wp-content/uploads/2023/12/Bible-Study-Micah.jpg
END:VEVENT
BEGIN:VEVENT
DTSTART;TZID=America/Los_Angeles:20240109T180000
DTEND;TZID=America/Los_Angeles:20240109T190000
DTSTAMP:20260419T080202
CREATED:20231230T202606Z
LAST-MODIFIED:20231230T202606Z
UID:36864-1704823200-1704826800@reflectionschristian.com
SUMMARY:bible study
DESCRIPTION:
URL:https://reflectionschristian.com/event/bible-study-52/
CATEGORIES:Bible Study
ATTACH;FMTTYPE=image/jpeg:https://reflectionschristian.com/wp-content/uploads/2023/12/Bible-Study-Micah.jpg
END:VEVENT
BEGIN:VEVENT
DTSTART;TZID=America/Los_Angeles:20231219T180000
DTEND;TZID=America/Los_Angeles:20231219T190000
DTSTAMP:20260419T080202
CREATED:20230808T014941Z
LAST-MODIFIED:20230821T185743Z
UID:36320-1703008800-1703012400@reflectionschristian.com
SUMMARY:bible study
DESCRIPTION:
URL:https://reflectionschristian.com/event/bible-study-51/
CATEGORIES:Bible Study
ATTACH;FMTTYPE=image/jpeg:https://reflectionschristian.com/wp-content/uploads/2023/04/Display-Case-Ryan-Micah.jpg
END:VEVENT
BEGIN:VEVENT
DTSTART;TZID=America/Los_Angeles:20231205T180000
DTEND;TZID=America/Los_Angeles:20231205T190000
DTSTAMP:20260419T080202
CREATED:20230808T014844Z
LAST-MODIFIED:20230821T185128Z
UID:36318-1701799200-1701802800@reflectionschristian.com
SUMMARY:bible study
DESCRIPTION:
URL:https://reflectionschristian.com/event/bible-study-50/
CATEGORIES:Bible Study
ATTACH;FMTTYPE=image/jpeg:https://reflectionschristian.com/wp-content/uploads/2023/04/Display-Case-Ryan-Micah.jpg
END:VEVENT
BEGIN:VEVENT
DTSTART;TZID=America/Los_Angeles:20231121T180000
DTEND;TZID=America/Los_Angeles:20231121T190000
DTSTAMP:20260419T080202
CREATED:20230808T014520Z
LAST-MODIFIED:20230821T185007Z
UID:36310-1700589600-1700593200@reflectionschristian.com
SUMMARY:bible study
DESCRIPTION:
URL:https://reflectionschristian.com/event/bible-study-48/
CATEGORIES:Bible Study
ATTACH;FMTTYPE=image/jpeg:https://reflectionschristian.com/wp-content/uploads/2023/04/Display-Case-Ryan-Micah.jpg
END:VEVENT
BEGIN:VEVENT
DTSTART;TZID=America/Los_Angeles:20231107T180000
DTEND;TZID=America/Los_Angeles:20231107T190000
DTSTAMP:20260419T080202
CREATED:20230808T014438Z
LAST-MODIFIED:20230821T184846Z
UID:36308-1699380000-1699383600@reflectionschristian.com
SUMMARY:bible study
DESCRIPTION:
URL:https://reflectionschristian.com/event/bible-study-46/
CATEGORIES:Bible Study
ATTACH;FMTTYPE=image/jpeg:https://reflectionschristian.com/wp-content/uploads/2023/04/Display-Case-Ryan-Micah.jpg
END:VEVENT
BEGIN:VEVENT
DTSTART;TZID=America/Los_Angeles:20231024T180000
DTEND;TZID=America/Los_Angeles:20231024T190000
DTSTAMP:20260419T080202
CREATED:20230804T021158Z
LAST-MODIFIED:20230821T184719Z
UID:36291-1698170400-1698174000@reflectionschristian.com
SUMMARY:bible study
DESCRIPTION:
URL:https://reflectionschristian.com/event/bible-study-49/
CATEGORIES:Bible Study
ATTACH;FMTTYPE=image/jpeg:https://reflectionschristian.com/wp-content/uploads/2023/04/Display-Case-Ryan-Micah.jpg
END:VEVENT
BEGIN:VEVENT
DTSTART;TZID=America/Los_Angeles:20231010T180000
DTEND;TZID=America/Los_Angeles:20231010T190000
DTSTAMP:20260419T080202
CREATED:20230804T021033Z
LAST-MODIFIED:20230821T184627Z
UID:36287-1696960800-1696964400@reflectionschristian.com
SUMMARY:bible study
DESCRIPTION:
URL:https://reflectionschristian.com/event/bible-study-47/
CATEGORIES:Bible Study
ATTACH;FMTTYPE=image/jpeg:https://reflectionschristian.com/wp-content/uploads/2023/04/Display-Case-Ryan-Micah.jpg
END:VEVENT
BEGIN:VEVENT
DTSTART;TZID=America/Los_Angeles:20230926T180000
DTEND;TZID=America/Los_Angeles:20230926T190000
DTSTAMP:20260419T080202
CREATED:20230804T020903Z
LAST-MODIFIED:20230821T184540Z
UID:36283-1695751200-1695754800@reflectionschristian.com
SUMMARY:bible study
DESCRIPTION:
URL:https://reflectionschristian.com/event/bible-study-44/
CATEGORIES:Bible Study
ATTACH;FMTTYPE=image/jpeg:https://reflectionschristian.com/wp-content/uploads/2023/04/Display-Case-Ryan-Micah.jpg
END:VEVENT
BEGIN:VEVENT
DTSTART;TZID=America/Los_Angeles:20230912T180000
DTEND;TZID=America/Los_Angeles:20230912T190000
DTSTAMP:20260419T080202
CREATED:20230804T020818Z
LAST-MODIFIED:20230821T184454Z
UID:36281-1694541600-1694545200@reflectionschristian.com
SUMMARY:bible study
DESCRIPTION:
URL:https://reflectionschristian.com/event/bible-study-40/
CATEGORIES:Bible Study
ATTACH;FMTTYPE=image/jpeg:https://reflectionschristian.com/wp-content/uploads/2023/04/Display-Case-Ryan-Micah.jpg
END:VEVENT
BEGIN:VEVENT
DTSTART;TZID=America/Los_Angeles:20230822T180000
DTEND;TZID=America/Los_Angeles:20230822T190000
DTSTAMP:20260419T080202
CREATED:20230411T200135Z
LAST-MODIFIED:20230821T164603Z
UID:35796-1692727200-1692730800@reflectionschristian.com
SUMMARY:bible study
DESCRIPTION:
URL:https://reflectionschristian.com/event/bible-study-45/
CATEGORIES:Bible Study
ATTACH;FMTTYPE=image/jpeg:https://reflectionschristian.com/wp-content/uploads/2023/04/Display-Case-Ryan-Micah.jpg
END:VEVENT
BEGIN:VEVENT
DTSTART;TZID=America/Los_Angeles:20230808T180000
DTEND;TZID=America/Los_Angeles:20230808T190000
DTSTAMP:20260419T080202
CREATED:20230411T195934Z
LAST-MODIFIED:20230701T231834Z
UID:35792-1691517600-1691521200@reflectionschristian.com
SUMMARY:bible study
DESCRIPTION:
URL:https://reflectionschristian.com/event/bible-study-43/
CATEGORIES:Bible Study
ATTACH;FMTTYPE=image/jpeg:https://reflectionschristian.com/wp-content/uploads/2022/12/Display-Case-Ryan-Romans.jpg
END:VEVENT
BEGIN:VEVENT
DTSTART;TZID=America/Los_Angeles:20230725T180000
DTEND;TZID=America/Los_Angeles:20230725T190000
DTSTAMP:20260419T080202
CREATED:20230411T195855Z
LAST-MODIFIED:20230701T231749Z
UID:35790-1690308000-1690311600@reflectionschristian.com
SUMMARY:bible study
DESCRIPTION:
URL:https://reflectionschristian.com/event/bible-study-42/
CATEGORIES:Bible Study
ATTACH;FMTTYPE=image/jpeg:https://reflectionschristian.com/wp-content/uploads/2022/12/Display-Case-Ryan-Romans.jpg
END:VEVENT
BEGIN:VEVENT
DTSTART;TZID=America/Los_Angeles:20230711T180000
DTEND;TZID=America/Los_Angeles:20230711T190000
DTSTAMP:20260419T080202
CREATED:20230411T195812Z
LAST-MODIFIED:20230701T231705Z
UID:35788-1689098400-1689102000@reflectionschristian.com
SUMMARY:bible study
DESCRIPTION:
URL:https://reflectionschristian.com/event/bible-study-41/
CATEGORIES:Bible Study
ATTACH;FMTTYPE=image/jpeg:https://reflectionschristian.com/wp-content/uploads/2022/12/Display-Case-Ryan-Romans.jpg
END:VEVENT
BEGIN:VEVENT
DTSTART;TZID=America/Los_Angeles:20230627T180000
DTEND;TZID=America/Los_Angeles:20230627T190000
DTSTAMP:20260419T080202
CREATED:20230405T195704Z
LAST-MODIFIED:20230405T195704Z
UID:35768-1687888800-1687892400@reflectionschristian.com
SUMMARY:bible study
DESCRIPTION:
URL:https://reflectionschristian.com/event/bible-study-39/
CATEGORIES:Bible Study
ATTACH;FMTTYPE=image/jpeg:https://reflectionschristian.com/wp-content/uploads/2022/12/Display-Case-Ryan-Romans.jpg
END:VEVENT
BEGIN:VEVENT
DTSTART;TZID=America/Los_Angeles:20230613T180000
DTEND;TZID=America/Los_Angeles:20230613T190000
DTSTAMP:20260419T080202
CREATED:20230405T195558Z
LAST-MODIFIED:20230405T195914Z
UID:35766-1686679200-1686682800@reflectionschristian.com
SUMMARY:bible study
DESCRIPTION:
URL:https://reflectionschristian.com/event/bible-study-38/
CATEGORIES:Bible Study
ATTACH;FMTTYPE=image/jpeg:https://reflectionschristian.com/wp-content/uploads/2022/12/Display-Case-Ryan-Romans.jpg
END:VEVENT
BEGIN:VEVENT
DTSTART;TZID=America/Los_Angeles:20230530T180000
DTEND;TZID=America/Los_Angeles:20230530T190000
DTSTAMP:20260419T080202
CREATED:20230321T191227Z
LAST-MODIFIED:20230321T191227Z
UID:35658-1685469600-1685473200@reflectionschristian.com
SUMMARY:bible study
DESCRIPTION:
URL:https://reflectionschristian.com/event/bible-study-37/
CATEGORIES:Bible Study
ATTACH;FMTTYPE=image/jpeg:https://reflectionschristian.com/wp-content/uploads/2022/12/Display-Case-Ryan-Romans.jpg
END:VEVENT
BEGIN:VEVENT
DTSTART;TZID=America/Los_Angeles:20230516T180000
DTEND;TZID=America/Los_Angeles:20230516T190000
DTSTAMP:20260419T080202
CREATED:20230321T191131Z
LAST-MODIFIED:20230321T191131Z
UID:35656-1684260000-1684263600@reflectionschristian.com
SUMMARY:bible study
DESCRIPTION:
URL:https://reflectionschristian.com/event/bible-study-36/
CATEGORIES:Bible Study
ATTACH;FMTTYPE=image/jpeg:https://reflectionschristian.com/wp-content/uploads/2022/12/Display-Case-Ryan-Romans.jpg
END:VEVENT
BEGIN:VEVENT
DTSTART;TZID=America/Los_Angeles:20230502T180000
DTEND;TZID=America/Los_Angeles:20230502T190000
DTSTAMP:20260419T080202
CREATED:20230321T190934Z
LAST-MODIFIED:20230321T190934Z
UID:35654-1683050400-1683054000@reflectionschristian.com
SUMMARY:bible study
DESCRIPTION:
URL:https://reflectionschristian.com/event/bible-study-35/
CATEGORIES:Bible Study
ATTACH;FMTTYPE=image/jpeg:https://reflectionschristian.com/wp-content/uploads/2022/12/Display-Case-Ryan-Romans.jpg
END:VEVENT
BEGIN:VEVENT
DTSTART;TZID=America/Los_Angeles:20230418T180000
DTEND;TZID=America/Los_Angeles:20230418T190000
DTSTAMP:20260419T080202
CREATED:20230206T164430Z
LAST-MODIFIED:20230214T160508Z
UID:35500-1681840800-1681844400@reflectionschristian.com
SUMMARY:bible study
DESCRIPTION:
URL:https://reflectionschristian.com/event/bible-study-33/
CATEGORIES:Bible Study
ATTACH;FMTTYPE=image/jpeg:https://reflectionschristian.com/wp-content/uploads/2022/12/Display-Case-Ryan-Romans.jpg
END:VEVENT
BEGIN:VEVENT
DTSTART;TZID=America/Los_Angeles:20230404T180000
DTEND;TZID=America/Los_Angeles:20230404T190000
DTSTAMP:20260419T080202
CREATED:20230206T164833Z
LAST-MODIFIED:20230214T160417Z
UID:35506-1680631200-1680634800@reflectionschristian.com
SUMMARY:bible study
DESCRIPTION:
URL:https://reflectionschristian.com/event/bible-study-34/
CATEGORIES:Bible Study
ATTACH;FMTTYPE=image/jpeg:https://reflectionschristian.com/wp-content/uploads/2022/12/Display-Case-Ryan-Romans.jpg
END:VEVENT
BEGIN:VEVENT
DTSTART;TZID=America/Los_Angeles:20230321T180000
DTEND;TZID=America/Los_Angeles:20230321T190000
DTSTAMP:20260419T080202
CREATED:20221230T163035Z
LAST-MODIFIED:20221230T163035Z
UID:35326-1679421600-1679425200@reflectionschristian.com
SUMMARY:Bible Study
DESCRIPTION:
URL:https://reflectionschristian.com/event/bible-study-32/
CATEGORIES:Bible Study
ATTACH;FMTTYPE=image/jpeg:https://reflectionschristian.com/wp-content/uploads/2022/12/Display-Case-Ryan-Romans.jpg
END:VEVENT
END:VCALENDAR