BEGIN:VCALENDAR
VERSION:2.0
PRODID:-//Reflections Christian Fellowship - ECPv6.15.20//NONSGML v1.0//EN
CALSCALE:GREGORIAN
METHOD:PUBLISH
X-ORIGINAL-URL:https://reflectionschristian.com
X-WR-CALDESC:Events for Reflections Christian Fellowship
REFRESH-INTERVAL;VALUE=DURATION:PT1H
X-Robots-Tag:noindex
X-PUBLISHED-TTL:PT1H
BEGIN:VTIMEZONE
TZID:America/Los_Angeles
BEGIN:DAYLIGHT
TZOFFSETFROM:-0800
TZOFFSETTO:-0700
TZNAME:PDT
DTSTART:20210314T100000
END:DAYLIGHT
BEGIN:STANDARD
TZOFFSETFROM:-0700
TZOFFSETTO:-0800
TZNAME:PST
DTSTART:20211107T090000
END:STANDARD
BEGIN:DAYLIGHT
TZOFFSETFROM:-0800
TZOFFSETTO:-0700
TZNAME:PDT
DTSTART:20220313T100000
END:DAYLIGHT
BEGIN:STANDARD
TZOFFSETFROM:-0700
TZOFFSETTO:-0800
TZNAME:PST
DTSTART:20221106T090000
END:STANDARD
BEGIN:DAYLIGHT
TZOFFSETFROM:-0800
TZOFFSETTO:-0700
TZNAME:PDT
DTSTART:20230312T100000
END:DAYLIGHT
BEGIN:STANDARD
TZOFFSETFROM:-0700
TZOFFSETTO:-0800
TZNAME:PST
DTSTART:20231105T090000
END:STANDARD
END:VTIMEZONE
BEGIN:VEVENT
DTSTART;TZID=America/Los_Angeles:20220608T083000
DTEND;TZID=America/Los_Angeles:20220608T100000
DTSTAMP:20260420T155155
CREATED:20220418T204947Z
LAST-MODIFIED:20220523T152234Z
UID:2643-1654677000-1654682400@reflectionschristian.com
SUMMARY:Women's Bible Study
DESCRIPTION:
URL:https://reflectionschristian.com/event/womens-bible-study-31/
LOCATION:CA
CATEGORIES:Women Groups
ATTACH;FMTTYPE=image/jpeg:https://reflectionschristian.com/wp-content/uploads/2022/03/cOLossians-display-case-and-web.jpg
END:VEVENT
BEGIN:VEVENT
DTSTART;TZID=America/Los_Angeles:20220608T180000
DTEND;TZID=America/Los_Angeles:20220608T190000
DTSTAMP:20260420T155155
CREATED:20220418T205105Z
LAST-MODIFIED:20220523T152621Z
UID:2647-1654711200-1654714800@reflectionschristian.com
SUMMARY:Men of Iron
DESCRIPTION:
URL:https://reflectionschristian.com/event/men-of-iron-15/
LOCATION:CA
CATEGORIES:Men Groups
ATTACH;FMTTYPE=image/jpeg:https://reflectionschristian.com/wp-content/uploads/2022/03/dISPLAY-CASE-MENS-BIBLE-STUDY-ECCLES..jpg
END:VEVENT
END:VCALENDAR